BEGIN:VCALENDAR
VERSION:2.0
PRODID:-//eventon.com NONSGML v1.0//EN
CALSCALE:GREGORIAN
METHOD:PUBLISH
BEGIN:VEVENT
UID:69e74af562e4b
DTSTAMP:20260421T100125Z
DTSTART:20181008T193000Z
DTEND:20181008T203000Z
LOCATION:Plaça de la Corona Plaça de la corona
SUMMARY:RAMONETS- RAFELBUNYOL
DESCRIPTION:RAMONETS som una banda de rock orientada al públic familiar. V
 olem apropar aquest estil de música als més menuts\,  que els xiquets i 
 xiquetes gaudisquen escoltant-nos\,  i que a més a més aprenguen\,  al ll
 arg de l’actuació\,  aspectes relacionats amb el rock\,  com per exempl
 e quins són els instruments que componen una[..]\nhttps://elmico.es/agenda
 /ramonets-rafelbunyol-2/
URL:https://elmico.es/agenda/ramonets-rafelbunyol-2/
END:VEVENT
END:VCALENDAR