BEGIN:VCALENDAR
VERSION:2.0
PRODID:-//eventon.com NONSGML v1.0//EN
CALSCALE:GREGORIAN
METHOD:PUBLISH
BEGIN:VEVENT
UID:69e74a07e4078
DTSTAMP:20260421T095727Z
DTSTART:20191130T193000Z
DTEND:20191130T235000Z
LOCATION:Centre Cultural La Beneficència Carrer de la Corona\,  36\,  46003 Valencia
SUMMARY:RAMONETS - València
DESCRIPTION:RAMONETS som una banda de rock orientada al públic familiar. V
 olem apropar aquest estil de música als més menuts\,  que els xiquets i 
 xiquetes gaudisquen escoltant-nos\,  i que a més a més aprenguen\,  al ll
 arg de l’actuació\,  aspectes relacionats amb el rock\,  com per exempl
 e quins són els instruments que componen una[..]\nhttps://elmico.es/agenda
 /ramonets-valencia-6/
URL:https://elmico.es/agenda/ramonets-valencia-6/
END:VEVENT
END:VCALENDAR