BEGIN:VCALENDAR
VERSION:2.0
PRODID:-//eventon.com NONSGML v1.0//EN
CALSCALE:GREGORIAN
METHOD:PUBLISH
BEGIN:VEVENT
UID:69e74c718c0eb
DTSTAMP:20260421T100745Z
DTSTART:20210904T180000Z
DTEND:20210904T235000Z
LOCATION:Rafelbunyol Plaça Ajuntament de Rafelbunyol
SUMMARY:RAMONETS
DESCRIPTION:RAMONETS som una banda de rock orientada al públic familiar. V
 olem apropar aquest estil de música als més menuts\,  que els xiquets i 
 xiquetes gaudisquen escoltant-nos\,  i que a més a més aprenguen\,  al ll
 arg de l’actuació\,  aspectes relacionats amb el rock\,  com per exempl
 e quins són els instruments que componen una[..]\nhttps://elmico.es/agenda
 /ramonets-19/
URL:https://elmico.es/agenda/ramonets-19/
END:VEVENT
END:VCALENDAR