BEGIN:VCALENDAR
VERSION:2.0
PRODID:-//eventon.com NONSGML v1.0//EN
CALSCALE:GREGORIAN
METHOD:PUBLISH
BEGIN:VEVENT
UID:69e73641982ab
DTSTAMP:20260421T083305Z
DTSTART:20211010T230000Z
DTEND:20211010T235000Z
LOCATION:
SUMMARY:PEP GIMENO "BOTIFARRA"
DESCRIPTION:Pep Gimeno “Botifarra” amb la col·laboració del violinist
 a i cantant marroquí Ahmed Touzani. Fusiona la música valenciana i magreb
 í.\nhttps://elmico.es/agenda/pep-gimeno-botifarra-dbabm-10-oct/
URL:https://elmico.es/agenda/pep-gimeno-botifarra-dbabm-10-oct/
END:VEVENT
END:VCALENDAR