BEGIN:VCALENDAR
VERSION:2.0
PRODID:-//eventon.com NONSGML v1.0//EN
CALSCALE:GREGORIAN
METHOD:PUBLISH
BEGIN:VEVENT
UID:69e74a556eb33
DTSTAMP:20260421T095845Z
DTSTART:20211009T120000Z
DTEND:20211009T235000Z
LOCATION:
SUMMARY:RAMONETS
DESCRIPTION:RAMONETS som una banda de rock orientada al públic familiar. V
 olem apropar aquest estil de música als més menuts\,  que els xiquets i 
 xiquetes gaudisquen escoltant-nos\,  i que a més a més aprenguen\,  al ll
 arg de l’actuació\,  aspectes relacionats amb el rock\,  com per exempl
 e quins són els instruments que componen una[..]\nhttps://elmico.es/agenda
 /ramonets-elpuig/
URL:https://elmico.es/agenda/ramonets-elpuig/
END:VEVENT
END:VCALENDAR