BEGIN:VCALENDAR
VERSION:2.0
PRODID:-//eventon.com NONSGML v1.0//EN
CALSCALE:GREGORIAN
METHOD:PUBLISH
BEGIN:VEVENT
UID:69e733621d5df
DTSTAMP:20260421T082050Z
DTSTART:20220622T200000Z
DTEND:20220622T220000Z
LOCATION:
SUMMARY:Messer Chups: Barcelona
DESCRIPTION:Messer Chups actúan en SIDECAR\,  una sala de referencia en la
  escena musical de la ciudad.\nhttps://elmico.es/agenda/messer-chups-barcel
 ona/
URL:https://elmico.es/agenda/messer-chups-barcelona/
END:VEVENT
END:VCALENDAR