BEGIN:VCALENDAR
VERSION:2.0
PRODID:-//eventon.com NONSGML v1.0//EN
CALSCALE:GREGORIAN
METHOD:PUBLISH
BEGIN:VEVENT
UID:69e735f505381
DTSTAMP:20260421T083149Z
DTSTART:20220715T200000Z
DTEND:20220715T225000Z
LOCATION:Girona  Girona \,  Parc de Núria Terés i Bonet
SUMMARY:PEP GIMENO "BOTIFARRA"· L’Hostal Càntut
DESCRIPTION:L’Hostal Càntut (Cornellà del Terri\,  Girona) proposa pel 
 mes de juliol sis sopars per cantar\,  amb artistes vinculats a la música 
 de tradició oral que\,  fugint del seu format habitual\,  oferiran actuaci
 ons en acústic combinant peces populars i tradicionals amb el seu propi re
 pertori. Els coorganitzadors de la proposta\,  el[..]\nhttps://elmico.es/ag
 enda/pep-gimeno-botifarra%c2%b7-lhostal-cantut/
URL:https://elmico.es/agenda/pep-gimeno-botifarra%c2%b7-lhostal-cantut/
END:VEVENT
END:VCALENDAR