BEGIN:VCALENDAR
VERSION:2.0
PRODID:-//eventon.com NONSGML v1.0//EN
CALSCALE:GREGORIAN
METHOD:PUBLISH
BEGIN:VEVENT
UID:69e732f626765
DTSTAMP:20260421T081902Z
DTSTART:20221203T203000Z
DTEND:20221203T225000Z
LOCATION:Helldorado Venta de la Estrella Kalea\,  6\,  Pab. 44\,  01006 Vitoria-Gasteiz\,  Araba
SUMMARY:Ray Collins Hot Club
DESCRIPTION:Entradas: https://www.helldorado.net/index.php/avance-programac
 ion?view=article&amp;id=33:ray-collins-hot-club&amp;catid=8#ancla2\nhttps:/
 /elmico.es/agenda/ray-collins-hot-club-2/
URL:https://elmico.es/agenda/ray-collins-hot-club-2/
END:VEVENT
END:VCALENDAR