BEGIN:VCALENDAR
VERSION:2.0
PRODID:-//eventon.com NONSGML v1.0//EN
CALSCALE:GREGORIAN
METHOD:PUBLISH
BEGIN:VEVENT
UID:69e74c3710210
DTSTAMP:20260421T100647Z
DTSTART:20250112T180000Z
DTEND:20250112T225900Z
LOCATION:Aielo de Malferit
SUMMARY:PEP GIMENO "BOTIFARRA"
DESCRIPTION:PEP GIMENO "BOTIFARRA"\nhttps://elmico.es/agenda/pep-gimeno-bot
 ifarra-31/
URL:https://elmico.es/agenda/pep-gimeno-botifarra-31/
END:VEVENT
END:VCALENDAR