BEGIN:VCALENDAR
VERSION:2.0
PRODID:-//eventon.com NONSGML v1.0//EN
CALSCALE:GREGORIAN
METHOD:PUBLISH
BEGIN:VEVENT
UID:69e73603b9538
DTSTAMP:20260421T083203Z
DTSTART:20250620T140000Z
DTEND:20250620T225900Z
LOCATION:Azkena Rock Festival  Ibáñez de Bilbao Kalea\,  26\,  48009 Bilbo\,  Bizkaia
SUMMARY:Los Straitjackets | Vitoria
DESCRIPTION:Los Straitjackets | Vitoria\nhttps://elmico.es/agenda/los-strai
 tjackets-vitoria/
URL:https://elmico.es/agenda/los-straitjackets-vitoria/
END:VEVENT
END:VCALENDAR