BEGIN:VCALENDAR
VERSION:2.0
PRODID:-//eventon.com NONSGML v1.0//EN
CALSCALE:GREGORIAN
METHOD:PUBLISH
BEGIN:VEVENT
UID:69e73319704d5
DTSTAMP:20260421T081937Z
DTSTART:20250615T170000Z
DTEND:20250615T225900Z
LOCATION:Pinar Grau de Castelló Avenida los Pinos\,  210
SUMMARY:PEP GIMENO "BOTIFARRA"
DESCRIPTION:PEP GIMENO "BOTIFARRA"\nhttps://elmico.es/agenda/pep-gimeno-bot
 ifarra-46/
URL:https://elmico.es/agenda/pep-gimeno-botifarra-46/
END:VEVENT
END:VCALENDAR