BEGIN:VCALENDAR
VERSION:2.0
PRODID:-//eventon.com NONSGML v1.0//EN
CALSCALE:GREGORIAN
METHOD:PUBLISH
BEGIN:VEVENT
UID:69e7365caab85
DTSTAMP:20260421T083332Z
DTSTART:20250710T193000Z
DTEND:20250710T225900Z
LOCATION:Constantí Villa romana de Centcelles
SUMMARY:PEP GIMENO "BOTIFARRA"
DESCRIPTION:JA VE L&#8217;AIRE\nhttps://elmico.es/agenda/pep-gimeno-botifar
 ra-49/
URL:https://elmico.es/agenda/pep-gimeno-botifarra-49/
END:VEVENT
END:VCALENDAR