BEGIN:VCALENDAR
VERSION:2.0
PRODID:-//eventon.com NONSGML v1.0//EN
CALSCALE:GREGORIAN
METHOD:PUBLISH
BEGIN:VEVENT
UID:69e735c180daf
DTSTAMP:20260421T083057Z
DTSTART:20250609T223000Z
DTEND:20250609T225900Z
LOCATION:Jesús Pobre Pl. del Poble
SUMMARY:PEP GIMENO "BOTIFARRA"
DESCRIPTION:JA VE L&#8217;AIRE\nhttps://elmico.es/agenda/pep-gimeno-botifar
 ra-50/
URL:https://elmico.es/agenda/pep-gimeno-botifarra-50/
END:VEVENT
END:VCALENDAR